BEGIN:VCALENDAR
VERSION:2.0
PRODID:-//Twin Cities ACM Professional Chapter - ECPv4.9.10//NONSGML v1.0//EN
CALSCALE:GREGORIAN
METHOD:PUBLISH
X-WR-CALNAME:Twin Cities ACM Professional Chapter
X-ORIGINAL-URL:https://minneapolis.hosting.acm.org
X-WR-CALDESC:Events for Twin Cities ACM Professional Chapter
BEGIN:VTIMEZONE
TZID:UTC
BEGIN:STANDARD
TZOFFSETFROM:+0000
TZOFFSETTO:+0000
TZNAME:UTC
DTSTART:20190101T000000
END:STANDARD
END:VTIMEZONE
BEGIN:VEVENT
DTSTART;TZID=UTC:20191026T080000
DTEND;TZID=UTC:20191026T160000
DTSTAMP:20260421T004017
CREATED:20191025T161956Z
LAST-MODIFIED:20191025T164105Z
UID:239-1572076800-1572105600@minneapolis.hosting.acm.org
SUMMARY:CADSCOM 2019
DESCRIPTION:The ACM Twin Cities Professional Chapter invites students\, faculty and professionals to CADSCOM 2019\, the 2nd research Colloquium on Analytics\, Data Science and Computing\, on October 26. CADSCOM 2019 features prominent keynotes\, an industry-faculty panels\, and peer-reviewed and invited paper presentations \nMORE INFORMATION : https://easychair.org/cfp/CADSCOM2019 \nFLYER AND MORE INFORMATION HERE: CADSCOM2019flyer \nThe even link can found here: https://www.eventbrite.com/e/cadscom-2019-colloquium-on-analytics-data-science-and-computing-tickets-65442154245 \n
URL:https://minneapolis.hosting.acm.org/event/cadscom-2019-2/
END:VEVENT
END:VCALENDAR