BEGIN:VCALENDAR
VERSION:2.0
PRODID:-//Twin Cities ACM Professional Chapter - ECPv4.9.10//NONSGML v1.0//EN
CALSCALE:GREGORIAN
METHOD:PUBLISH
X-WR-CALNAME:Twin Cities ACM Professional Chapter
X-ORIGINAL-URL:https://minneapolis.hosting.acm.org
X-WR-CALDESC:Events for Twin Cities ACM Professional Chapter
BEGIN:VTIMEZONE
TZID:UTC
BEGIN:STANDARD
TZOFFSETFROM:+0000
TZOFFSETTO:+0000
TZNAME:UTC
DTSTART:20180101T000000
END:STANDARD
END:VTIMEZONE
BEGIN:VEVENT
DTSTART;TZID=UTC:20181012T090000
DTEND;TZID=UTC:20181012T150000
DTSTAMP:20260424T210405
CREATED:20181025T145808Z
LAST-MODIFIED:20181025T150413Z
UID:72-1539334800-1539356400@minneapolis.hosting.acm.org
SUMMARY:Metropolitan State University SAS Day
DESCRIPTION:What exactly is data mining and how can it help your organization more confidently predict the future?\nThis presentation will introduce you to the essential aspects of data mining and give you a guided\ntour of SAS® Enterprise Miner™\, the powerful data mining workbench from SAS.\nMore information here\n\n
URL:https://minneapolis.hosting.acm.org/event/metropolitan-state-university-sas-day/
CATEGORIES:Past events
END:VEVENT
END:VCALENDAR